BEGIN:VCALENDAR
VERSION:2.0
PRODID:-//NAACP SLO County - ECPv6.15.20//NONSGML v1.0//EN
CALSCALE:GREGORIAN
METHOD:PUBLISH
X-ORIGINAL-URL:https://naacpslocty.org
X-WR-CALDESC:Events for NAACP SLO County
REFRESH-INTERVAL;VALUE=DURATION:PT1H
X-Robots-Tag:noindex
X-PUBLISHED-TTL:PT1H
BEGIN:VTIMEZONE
TZID:America/Los_Angeles
BEGIN:DAYLIGHT
TZOFFSETFROM:-0800
TZOFFSETTO:-0700
TZNAME:PDT
DTSTART:20170312T100000
END:DAYLIGHT
BEGIN:STANDARD
TZOFFSETFROM:-0700
TZOFFSETTO:-0800
TZNAME:PST
DTSTART:20171105T090000
END:STANDARD
BEGIN:DAYLIGHT
TZOFFSETFROM:-0800
TZOFFSETTO:-0700
TZNAME:PDT
DTSTART:20180311T100000
END:DAYLIGHT
BEGIN:STANDARD
TZOFFSETFROM:-0700
TZOFFSETTO:-0800
TZNAME:PST
DTSTART:20181104T090000
END:STANDARD
BEGIN:DAYLIGHT
TZOFFSETFROM:-0800
TZOFFSETTO:-0700
TZNAME:PDT
DTSTART:20190310T100000
END:DAYLIGHT
BEGIN:STANDARD
TZOFFSETFROM:-0700
TZOFFSETTO:-0800
TZNAME:PST
DTSTART:20191103T090000
END:STANDARD
BEGIN:DAYLIGHT
TZOFFSETFROM:-0800
TZOFFSETTO:-0700
TZNAME:PDT
DTSTART:20200308T100000
END:DAYLIGHT
BEGIN:STANDARD
TZOFFSETFROM:-0700
TZOFFSETTO:-0800
TZNAME:PST
DTSTART:20201101T090000
END:STANDARD
END:VTIMEZONE
BEGIN:VEVENT
DTSTART;TZID=America/Los_Angeles:20190121T150000
DTEND;TZID=America/Los_Angeles:20190121T193000
DTSTAMP:20260423T102620
CREATED:20190106T185253Z
LAST-MODIFIED:20240906T050456Z
UID:10008905-1548082800-1548099000@naacpslocty.org
SUMMARY:Dr. Martin Luther King Jr. Celebration
DESCRIPTION:Join us to celebrate the life of\nDr. Martin Luther King Jr.\nFrom 3:00 to 7:30PM on January 21\, join us for an afternoon of workshops\, a movie\, food\, friends\, and fellowship. There will also be a children’s area. We look forward to seeing you there!
URL:https://naacpslocty.org/event/dr-martin-luther-king-jr-celebration/
LOCATION:Congregation Beth David\, 10180 Los Osos Valley Road\, San Luis Obispo\, CA\, 93405\, United States
CATEGORIES:Celebration,History
ATTACH;FMTTYPE=image/jpeg:https://naacpslocty.org/wp-content/uploads/2017/11/MLK_MontgomeryMarch_sm-1.jpg
END:VEVENT
BEGIN:VEVENT
DTSTART;TZID=America/Los_Angeles:20180115T160000
DTEND;TZID=America/Los_Angeles:20180115T200000
DTSTAMP:20260423T102620
CREATED:20171128T154015Z
LAST-MODIFIED:20240906T050458Z
UID:10008875-1516032000-1516046400@naacpslocty.org
SUMMARY:Communities Together Celebrating Dr. Martin Luther King
DESCRIPTION:The National Association for the Advancement of Colored People (NAACP) San Luis Obispo County branch\, along with Bend the Arc\, Beth David Congregation\, RACE Matters and JCC Federation of San Luis Obispo is pleased to present our inaugural Communities Together Celebrating Dr. Martin Luther King event. The celebration includes music\, films\, food\, a collection of African American history and art from Santa Maria’s Hudson Institute of African American Heritage and Global Arts museum\, and keynote speaker Dr. Donald Cheek of Fresno State University. \nJoin us on Monday\, January 15\, 2018\, 4:00-8:00 PM at the Congregation Beth David\, 10180 Los Osos Valley Road\, San Luis Obispo\, CA 93405.
URL:https://naacpslocty.org/event/communities-together-celebrating-dr-martin-luther-king/
LOCATION:Congregation Beth David\, 10180 Los Osos Valley Road\, San Luis Obispo\, CA\, 93405\, United States
ATTACH;FMTTYPE=image/jpeg:https://naacpslocty.org/wp-content/uploads/2017/11/NAACP_MLK_CommunitiesTogether.jpg
END:VEVENT
END:VCALENDAR