BEGIN:VCALENDAR
VERSION:2.0
PRODID:-//NAACP SLO County - ECPv6.15.20//NONSGML v1.0//EN
CALSCALE:GREGORIAN
METHOD:PUBLISH
X-WR-CALNAME:NAACP SLO County
X-ORIGINAL-URL:https://naacpslocty.org
X-WR-CALDESC:Events for NAACP SLO County
REFRESH-INTERVAL;VALUE=DURATION:PT1H
X-Robots-Tag:noindex
X-PUBLISHED-TTL:PT1H
BEGIN:VTIMEZONE
TZID:America/Los_Angeles
BEGIN:DAYLIGHT
TZOFFSETFROM:-0800
TZOFFSETTO:-0700
TZNAME:PDT
DTSTART:20220313T100000
END:DAYLIGHT
BEGIN:STANDARD
TZOFFSETFROM:-0700
TZOFFSETTO:-0800
TZNAME:PST
DTSTART:20221106T090000
END:STANDARD
BEGIN:DAYLIGHT
TZOFFSETFROM:-0800
TZOFFSETTO:-0700
TZNAME:PDT
DTSTART:20230312T100000
END:DAYLIGHT
BEGIN:STANDARD
TZOFFSETFROM:-0700
TZOFFSETTO:-0800
TZNAME:PST
DTSTART:20231105T090000
END:STANDARD
BEGIN:DAYLIGHT
TZOFFSETFROM:-0800
TZOFFSETTO:-0700
TZNAME:PDT
DTSTART:20240310T100000
END:DAYLIGHT
BEGIN:STANDARD
TZOFFSETFROM:-0700
TZOFFSETTO:-0800
TZNAME:PST
DTSTART:20241103T090000
END:STANDARD
END:VTIMEZONE
BEGIN:VEVENT
DTSTART;TZID=America/Los_Angeles:20230807T180000
DTEND;TZID=America/Los_Angeles:20230807T194500
DTSTAMP:20260421T154331
CREATED:20230127T015748Z
LAST-MODIFIED:20240906T050449Z
UID:10013072-1691431200-1691437500@naacpslocty.org
SUMMARY:Healing Monday’s
DESCRIPTION:Healing Monday’s starting February 6\, 2023  \n6:00 pm to 7:45 pm via Zoom  (every other Monday) \nBuilding Social Support For Social Justice \nTopics to be discussed! Listening Partnerships\,\, Movies\, Videos & Lectures\, Topics in the News\, Personal Growth \nBook Study: So You Want to Talk About Race  by Ijeoma Oluo \nFor more info and the Zoom link \nContact www.naacpslocty.org \nCall Karen at 805-468-9349
URL:https://naacpslocty.org/event/healing-mondays/2023-08-07/
END:VEVENT
BEGIN:VEVENT
DTSTART;TZID=America/Los_Angeles:20230808T180000
DTEND;TZID=America/Los_Angeles:20230808T193000
DTSTAMP:20260421T154331
CREATED:20240906T045325Z
LAST-MODIFIED:20240907T182639Z
UID:10013983-1691517600-1691523000@naacpslocty.org
SUMMARY:General Membership Meeting
DESCRIPTION:Second Tuesday of Every Month via ZOOM Time: 6:30PM-8:15PM 
URL:https://naacpslocty.org/event/general-membership-meeting-2/2023-08-08/
CATEGORIES:Monthly Meeting
END:VEVENT
BEGIN:VEVENT
DTSTART;TZID=America/Los_Angeles:20230821T180000
DTEND;TZID=America/Los_Angeles:20230821T194500
DTSTAMP:20260421T154331
CREATED:20230127T015748Z
LAST-MODIFIED:20240906T050449Z
UID:10013073-1692640800-1692647100@naacpslocty.org
SUMMARY:Healing Monday’s
DESCRIPTION:Healing Monday’s starting February 6\, 2023  \n6:00 pm to 7:45 pm via Zoom  (every other Monday) \nBuilding Social Support For Social Justice \nTopics to be discussed! Listening Partnerships\,\, Movies\, Videos & Lectures\, Topics in the News\, Personal Growth \nBook Study: So You Want to Talk About Race  by Ijeoma Oluo \nFor more info and the Zoom link \nContact www.naacpslocty.org \nCall Karen at 805-468-9349
URL:https://naacpslocty.org/event/healing-mondays/2023-08-21/
END:VEVENT
BEGIN:VEVENT
DTSTART;TZID=America/Los_Angeles:20230826T100000
DTEND;TZID=America/Los_Angeles:20230826T113000
DTSTAMP:20260421T154331
CREATED:20230327T172626Z
LAST-MODIFIED:20240906T050449Z
UID:10013087-1693044000-1693049400@naacpslocty.org
SUMMARY:PASO CARES SERVICE DAY
DESCRIPTION:PASO CARES SERVICE DAY POP-UPS \nJoin the Paso Cares community for a day of service designed to provide resources. food\, and care to unhoused members of Paso Robles. Location: JC Penny parking lot. \nWant to volunteer? Have items to donate or questions? Email us at pasocares@gmail.com. Volunteers are welcome to show up at the location above at 10:00am. \nTAKING DONATIONS OF: Tents\, Sleeping Bags\, Travel-size hygiene Items\, New and gently worn clothes \nPASO CARES IS A 501(C)(3) ID#46-4646537 FOR MORE INFORMATION OR TO DONATE VISIT PASOCARES.ORG
URL:https://naacpslocty.org/event/paso-cares-service-day-6/
END:VEVENT
END:VCALENDAR