BEGIN:VCALENDAR
VERSION:2.0
PRODID:-//NAACP SLO County - ECPv6.15.20//NONSGML v1.0//EN
CALSCALE:GREGORIAN
METHOD:PUBLISH
X-WR-CALNAME:NAACP SLO County
X-ORIGINAL-URL:https://naacpslocty.org
X-WR-CALDESC:Events for NAACP SLO County
REFRESH-INTERVAL;VALUE=DURATION:PT1H
X-Robots-Tag:noindex
X-PUBLISHED-TTL:PT1H
BEGIN:VTIMEZONE
TZID:America/Los_Angeles
BEGIN:DAYLIGHT
TZOFFSETFROM:-0800
TZOFFSETTO:-0700
TZNAME:PDT
DTSTART:20170312T100000
END:DAYLIGHT
BEGIN:STANDARD
TZOFFSETFROM:-0700
TZOFFSETTO:-0800
TZNAME:PST
DTSTART:20171105T090000
END:STANDARD
BEGIN:DAYLIGHT
TZOFFSETFROM:-0800
TZOFFSETTO:-0700
TZNAME:PDT
DTSTART:20180311T100000
END:DAYLIGHT
BEGIN:STANDARD
TZOFFSETFROM:-0700
TZOFFSETTO:-0800
TZNAME:PST
DTSTART:20181104T090000
END:STANDARD
BEGIN:DAYLIGHT
TZOFFSETFROM:-0800
TZOFFSETTO:-0700
TZNAME:PDT
DTSTART:20190310T100000
END:DAYLIGHT
BEGIN:STANDARD
TZOFFSETFROM:-0700
TZOFFSETTO:-0800
TZNAME:PST
DTSTART:20191103T090000
END:STANDARD
BEGIN:DAYLIGHT
TZOFFSETFROM:-0800
TZOFFSETTO:-0700
TZNAME:PDT
DTSTART:20200308T100000
END:DAYLIGHT
BEGIN:STANDARD
TZOFFSETFROM:-0700
TZOFFSETTO:-0800
TZNAME:PST
DTSTART:20201101T090000
END:STANDARD
BEGIN:DAYLIGHT
TZOFFSETFROM:-0800
TZOFFSETTO:-0700
TZNAME:PDT
DTSTART:20210314T100000
END:DAYLIGHT
BEGIN:STANDARD
TZOFFSETFROM:-0700
TZOFFSETTO:-0800
TZNAME:PST
DTSTART:20211107T090000
END:STANDARD
BEGIN:DAYLIGHT
TZOFFSETFROM:-0800
TZOFFSETTO:-0700
TZNAME:PDT
DTSTART:20220313T100000
END:DAYLIGHT
BEGIN:STANDARD
TZOFFSETFROM:-0700
TZOFFSETTO:-0800
TZNAME:PST
DTSTART:20221106T090000
END:STANDARD
BEGIN:DAYLIGHT
TZOFFSETFROM:-0800
TZOFFSETTO:-0700
TZNAME:PDT
DTSTART:20230312T100000
END:DAYLIGHT
BEGIN:STANDARD
TZOFFSETFROM:-0700
TZOFFSETTO:-0800
TZNAME:PST
DTSTART:20231105T090000
END:STANDARD
END:VTIMEZONE
BEGIN:VEVENT
DTSTART;TZID=America/Los_Angeles:20220728T174500
DTEND;TZID=America/Los_Angeles:20220728T191500
DTSTAMP:20260421T192051
CREATED:20220624T144438Z
LAST-MODIFIED:20240906T050450Z
UID:10013025-1659030300-1659035700@naacpslocty.org
SUMMARY:Rally for Peace not Violence
DESCRIPTION:Rally for Peace not Violence Thursday\, July 28\, 2022 \n5:45-7:15 pm\, SLO Courthouse\, 1050 Monterey St \n \nClick here for flyer
URL:https://naacpslocty.org/event/rally-for-peace-not-violence/
CATEGORIES:Rally
END:VEVENT
BEGIN:VEVENT
DTSTART;TZID=America/Los_Angeles:20210220T120000
DTEND;TZID=America/Los_Angeles:20210220T130000
DTSTAMP:20260421T192051
CREATED:20210217T193821Z
LAST-MODIFIED:20240906T050451Z
UID:10009001-1613822400-1613826000@naacpslocty.org
SUMMARY:Drive the City Motorcade
DESCRIPTION:
URL:https://naacpslocty.org/event/drive-the-city-motorcade/
CATEGORIES:Rally
END:VEVENT
BEGIN:VEVENT
DTSTART;VALUE=DATE:20201105
DTEND;VALUE=DATE:20201106
DTSTAMP:20260421T192051
CREATED:20200616T213258Z
LAST-MODIFIED:20240906T050453Z
UID:10008939-1604534400-1604620799@naacpslocty.org
SUMMARY:2020 Victory Rally
DESCRIPTION:2020 Victory Rally \nSan Luis Obispo County
URL:https://naacpslocty.org/event/2020-victory-rally/
CATEGORIES:Rally
END:VEVENT
BEGIN:VEVENT
DTSTART;TZID=America/Los_Angeles:20201001T173000
DTEND;TZID=America/Los_Angeles:20201001T190000
DTSTAMP:20260421T192051
CREATED:20200921T165028Z
LAST-MODIFIED:20240906T050453Z
UID:10008992-1601573400-1601578800@naacpslocty.org
SUMMARY:Interfaith Action Rally
DESCRIPTION:2020 Interfaith Action Rally \nSan Luis Obispo County
URL:https://naacpslocty.org/event/interfaith-action-rally/
LOCATION:County Courthouse\, 1055 Monterey St.\, San Luis Obispo\, CA\, 93402\, United States
CATEGORIES:Rally
END:VEVENT
BEGIN:VEVENT
DTSTART;VALUE=DATE:20201001
DTEND;VALUE=DATE:20201002
DTSTAMP:20260421T192051
CREATED:20200616T175406Z
LAST-MODIFIED:20240906T050453Z
UID:10008934-1601510400-1601596799@naacpslocty.org
SUMMARY:Christ Did It All Rally (Theology of Social Justice)
DESCRIPTION:Christ Did It All Rally (Theology of Social Justice) \nSan Luis Obispo County
URL:https://naacpslocty.org/event/christ-did-it-all-rally-theology-of-social-justice/
CATEGORIES:Rally
END:VEVENT
BEGIN:VEVENT
DTSTART;VALUE=DATE:20200903
DTEND;VALUE=DATE:20200904
DTSTAMP:20260421T192051
CREATED:20200616T175020Z
LAST-MODIFIED:20240906T050454Z
UID:10008931-1599091200-1599177599@naacpslocty.org
SUMMARY:2020 Youth Empowerment Rally
DESCRIPTION:2020 Youth Empowerment Rally \nSan Luis Obispo County
URL:https://naacpslocty.org/event/2020-youth-empowerment-rally/
CATEGORIES:Rally
END:VEVENT
BEGIN:VEVENT
DTSTART;TZID=America/Los_Angeles:20200806T170000
DTEND;TZID=America/Los_Angeles:20200806T170000
DTSTAMP:20260421T192051
CREATED:20200616T174333Z
LAST-MODIFIED:20240906T050454Z
UID:10008929-1596733200-1596733200@naacpslocty.org
SUMMARY:Health! Environment! Poverty! Rally
DESCRIPTION:Health! Environment! Poverty! Rally \nTake A Stand For Health Care For All Environmental Justice And An End To Poverty \nSan Luis Obispo County \nSocial Distancing and Mask Required \nFor More Information Call 805-619-5354
URL:https://naacpslocty.org/event/health-environment-poverty-rally/
LOCATION:County Courthouse\, 1055 Monterey St.\, San Luis Obispo\, CA\, 93402\, United States
CATEGORIES:Rally
END:VEVENT
BEGIN:VEVENT
DTSTART;TZID=America/Los_Angeles:20200702T170000
DTEND;TZID=America/Los_Angeles:20200702T210000
DTSTAMP:20260421T192051
CREATED:20200616T170052Z
LAST-MODIFIED:20240906T050454Z
UID:10008922-1593709200-1593723600@naacpslocty.org
SUMMARY:Rally to Stop Hate and Violence- SLO County Courthouse\, 1055 Montery St. SLO
DESCRIPTION:San Luis Obispo County Courthouse\, 1055 Monterey St. SLO
URL:https://naacpslocty.org/event/rally-to-stop-hate-and-violence/
LOCATION:County Courthouse\, 1055 Monterey St.\, San Luis Obispo\, CA\, 93402\, United States
CATEGORIES:Rally
END:VEVENT
BEGIN:VEVENT
DTSTART;TZID=America/Los_Angeles:20180324T140000
DTEND;TZID=America/Los_Angeles:20180324T170000
DTSTAMP:20260421T192051
CREATED:20180313T131956Z
LAST-MODIFIED:20240906T050457Z
UID:10008887-1521900000-1521910800@naacpslocty.org
SUMMARY:March for Our Lives\, San Luis Obispo
DESCRIPTION:If you are a student interested in this action\, please email the organizers of this event at womensmarchslo@gmail.com. \n#MarchforOurLives in San Luis Obispo is a rally and march in solidarity with the march on Washington DC on 3/24/18. We support the victims and survivors of the Parkland massacre\, as well as all victims of school and mass shootings. The purpose of this event is to create a positive and just future by ending gun violence in our schools\, and mass shootings in our nation. We march to send a clear message to Congress that they must act now. There is no other way forward. What has happened over the past 19 years since Columbine cannot continue. \nDETAILS\nStudent-led rally starts at 2PM in Mitchell Park\, San Luis Obispo\, followed by a march. Check our FB event page for the latest updates. Click here to visit the WomensarchSLO.com website for more information. \n*****Frequently Asked Questions*****\nWHY ARE WE RALLYING AND MARCHING?\nTo force Congress to act. Congress has the power to end mass shootings in America. We call on all participants to join on 3/24/18\, and to commit to working on real solutions to mass shootings. \nPRO-PEACE PRO-INCLUSION\nThis Rally and March follows the Kingian Principles of Non-violence. We attack ideas and change policy. We work towards a better future. We do not attack specific people. All who want to end gun violence in schools are welcome. \nSIGNS\nPlease brings signs that promote an end to school and mass shootings in America. \nMEETING TIME & PLACE\nMarch 24 @2PM\, Mitchell Park\, San Luis Obispo \nROUTE\nRoute length will be shared ASAP. Route will be shared closer to the date. \nDONATE\nWe must fund permitting\, insurance\, sound\, safety and more. Please help us to cover the costs by donating here. \nVOLUNTEER\nWe need a large number of volunteers – please sign up here. \nSPEAKERS & PERFORMERS\nAlexa Ford\nLauren Hatcher\nKloe Seher\nElena Cota \nPARKING AND TRANSPORTATION\nWe encourage you to carpool\, ride your bike or use Uber or Lyft.\n– Bike Valet – free at Mitchell Park\, on Pismo Street.\n– San Luis Obispo Downtown Parking – click here.\n– San Luis Obispo Regional Transit (Bus) – click here.\n– Amtrak – click here. \nMISSION\nCourtesy of March for our Lives:\nNot one more. We cannot allow one more child to be shot at school. We cannot allow one more teacher to make a choice to jump in front of a firing assault rifle to save the lives of students. We cannot allow one more family to wait for a call or text that never comes. Our schools are unsafe. Our children and teachers are dying. We must make it our top priority to save these lives. \nMarch For Our Lives is created by\, inspired by\, and led by students across the country who will no longer risk their lives waiting for someone else to take action to stop the epidemic of mass school shootings that has become all too familiar. In the tragic wake of the seventeen lives brutally cut short in Florida\, politicians are telling us that now is not the time to talk about guns. March For Our Lives believes the time is now. \nOn March 24\, the kids and families of March For Our Lives will take to the streets of Washington\, DC to demand that their lives and safety become a priority. The collective voices of the March For Our Lives movement will be heard. \nSchool safety is not a political issue. There cannot be two sides to doing everything in our power to ensure the lives and futures of children who are at risk of dying when they should be learning\, playing\, and growing. The mission and focus of March For Our Lives is to demand that a comprehensive and effective bill be immediately brought before Congress to address these gun issues. No special interest group\, no political agenda is more critical than timely passage of legislation to effectively address the gun violence issues that are rampant in our country. \nEvery kid in this country now goes to school wondering if this day might be their last. We live in fear. \nIt doesn’t have to be this way. Change is coming. And it starts now\, inspired by and led by the kids who are our hope for the future. Their young voices will be heard. \nStand with us on March 24. Refuse to allow one more needless death. \nMARCH FOR OUR LIVES!
URL:https://naacpslocty.org/event/march-lives-san-luis-obispo/
LOCATION:Mitchell Park\, 1400 Osos St\, San Luis Obispo\, CA\, 93401\, United States
CATEGORIES:Rally
ATTACH;FMTTYPE=image/jpeg:https://naacpslocty.org/wp-content/uploads/2018/03/NAACP_March4OurLives_sm.jpg
END:VEVENT
BEGIN:VEVENT
DTSTART;TZID=America/Los_Angeles:20180203T110000
DTEND;TZID=America/Los_Angeles:20180203T140000
DTSTAMP:20260421T192051
CREATED:20180109T213538Z
LAST-MODIFIED:20240906T050458Z
UID:10008877-1517655600-1517666400@naacpslocty.org
SUMMARY:Stand Up for America: Take a Knee for Liberty and Justice for All
DESCRIPTION:Take a Knee is about social justice.  The NAACP mission is to ensure political\, educational\, social and economic equality regardless of race\, sex\, gender or religious beliefs. \nSUPER BOWL SATURDAY—Mission Plaza\, San Luis Obispo \nFEBRUARY 3\, 2018\, 11:00-2:00 PM
URL:https://naacpslocty.org/event/stand-america-take-knee-liberty-justice/
CATEGORIES:Rally
ATTACH;FMTTYPE=image/jpeg:https://naacpslocty.org/wp-content/uploads/2018/01/TAK_featured.jpg
END:VEVENT
BEGIN:VEVENT
DTSTART;TZID=America/Los_Angeles:20180120T120000
DTEND;TZID=America/Los_Angeles:20180120T160000
DTSTAMP:20260421T192051
CREATED:20180109T215605Z
LAST-MODIFIED:20240906T050458Z
UID:10008878-1516449600-1516464000@naacpslocty.org
SUMMARY:Hear Our Vote: Voices of Resistance Rally
DESCRIPTION:On January 20\, 2018\, the Women’s March SLO unites to reaffirm our commitment to building a positive and just future for all\, to celebrate the spirit of resistance efforts over the past year\, and to build momenturm for the 2018 election season. The San Luis Obispo Hear Our Vote rally is one of over 160 events worldwide honoring the movement that brought out 5 million marchers on January 21\, 2017\, in what is considered the largest single-day demonstration in U.S. history. \nSPEAKERS (not in order): \n\nElmy Bermejo – Keynote Speaker – Women’s rights\, workforce development\, immigration\, disaster relief\, small business & voting rights advocate; served in President Obama’s administration for 7 years\nMaria Larios Horton – Director of Migrant Education and immigrant rights advocate\nLisa Graystone – Disability rights advocate\nPatricia Gordon\, Ed.D – Civil rights and justice system reform advocate\nJay Bettergarcia\, Ph.D. – LGBTQIA rights advocate\nNatalie Risner – Environmental justice advocate\nPamela Parker\, M.D. – Physician and reproductive rights advocate\nAllene Villa – Former Union President and workers’ rights advocate\nKathleen Marshall – Santa Ynez Band of Chumash Indians\n\n\nPERFORMERS (not in order): \n\nCentral Coast West African Drummers and Dancers – PreRally\nSamba Loca – PreRally\nDian Sousa – Poet\nCecilia Gervin – Spoken Word\nRanchers For Peace – Music\nLos Osos Middle School Choir – Song\nErin Inglish & Band – Concert at 3 pm\n\nWe must create a society in which women – including Black women\, Native women\, poor women\, immigrant women\, disabled women\, Muslim women\, lesbian queer and trans women – are free and able to care for and nurture their families\, however they are formed\, in safe and healthy environments free from structural impediments. \nWomen’s March San Luis Obispo Unity Principles
URL:https://naacpslocty.org/event/hear-vote-voices-resistance-rally/
LOCATION:Mission plaza\, 989 Chorro Street\, San Luis Obispo\, 93401\, United States
CATEGORIES:Rally
ATTACH;FMTTYPE=image/png:https://naacpslocty.org/wp-content/uploads/2018/01/WomensMarch.png
END:VEVENT
END:VCALENDAR