BEGIN:VCALENDAR
VERSION:2.0
PRODID:-//NAACP SLO County - ECPv6.15.20//NONSGML v1.0//EN
CALSCALE:GREGORIAN
METHOD:PUBLISH
X-WR-CALNAME:NAACP SLO County
X-ORIGINAL-URL:http://naacpslocty.org
X-WR-CALDESC:Events for NAACP SLO County
REFRESH-INTERVAL;VALUE=DURATION:PT1H
X-Robots-Tag:noindex
X-PUBLISHED-TTL:PT1H
BEGIN:VTIMEZONE
TZID:America/Los_Angeles
BEGIN:DAYLIGHT
TZOFFSETFROM:-0800
TZOFFSETTO:-0700
TZNAME:PDT
DTSTART:20170312T100000
END:DAYLIGHT
BEGIN:STANDARD
TZOFFSETFROM:-0700
TZOFFSETTO:-0800
TZNAME:PST
DTSTART:20171105T090000
END:STANDARD
BEGIN:DAYLIGHT
TZOFFSETFROM:-0800
TZOFFSETTO:-0700
TZNAME:PDT
DTSTART:20180311T100000
END:DAYLIGHT
BEGIN:STANDARD
TZOFFSETFROM:-0700
TZOFFSETTO:-0800
TZNAME:PST
DTSTART:20181104T090000
END:STANDARD
BEGIN:DAYLIGHT
TZOFFSETFROM:-0800
TZOFFSETTO:-0700
TZNAME:PDT
DTSTART:20190310T100000
END:DAYLIGHT
BEGIN:STANDARD
TZOFFSETFROM:-0700
TZOFFSETTO:-0800
TZNAME:PST
DTSTART:20191103T090000
END:STANDARD
BEGIN:DAYLIGHT
TZOFFSETFROM:-0800
TZOFFSETTO:-0700
TZNAME:PDT
DTSTART:20200308T100000
END:DAYLIGHT
BEGIN:STANDARD
TZOFFSETFROM:-0700
TZOFFSETTO:-0800
TZNAME:PST
DTSTART:20201101T090000
END:STANDARD
END:VTIMEZONE
BEGIN:VEVENT
DTSTART;VALUE=DATE:20190520
DTEND;VALUE=DATE:20190521
DTSTAMP:20260425T201638
CREATED:20190430T224544Z
LAST-MODIFIED:20240906T050455Z
UID:10008915-1558310400-1558396799@naacpslocty.org
SUMMARY:NAACP Lobby Day 2019—Sacramento
DESCRIPTION:Join us for the annual NAACP Lobby Day in Sacramento\, California\, on Monday May 20. Plan on joining us for an educational and fun day. All members are welcome to attend. \nNAACP Lobby Day is when concerned NAACP members meet politicians or public servants at various levels in Sacramento to advocate and explain support for legislation relevant to the California Hawaii NAACP.
URL:http://naacpslocty.org/event/naacp-lobby-day-2019-sacramento/
LOCATION:Sacramento\, California
CATEGORIES:Government
ATTACH;FMTTYPE=image/jpeg:http://naacpslocty.org/wp-content/uploads/2019/04/NAACP_LobbyDay_featured_sm_new.jpg
END:VEVENT
BEGIN:VEVENT
DTSTART;TZID=America/Los_Angeles:20190506T173000
DTEND;TZID=America/Los_Angeles:20190506T200000
DTSTAMP:20260425T201638
CREATED:20190430T221209Z
LAST-MODIFIED:20240906T050455Z
UID:10008912-1557163800-1557172800@naacpslocty.org
SUMMARY:Town Hall Meeting with Congressman Carbajal--Paso Robles
DESCRIPTION:Town Hall meeting with Congressman Salud Carvajal\nPanel topics to be discussed: Healthcare\, the environment\, equality in education\, social justice \nPaso Robles High School\, Performing Arts Center\n801 Niblick Road\, Paso Robles \nDoors open to the public at 5:30pm >> Seating is limited: Free Tickets Required\nFor tickets\, visit Carbajal-Town-Hall-Ticket.Eventbrite.com
URL:http://naacpslocty.org/event/town-hall-meeting-congressman-carbajal-paso-robles/
LOCATION:Paso Robles High School\, Performing Arts Center\, 801 Niblick Road\, Paso Robles\, CA\, 93446\, United States
CATEGORIES:Government
ATTACH;FMTTYPE=image/png:http://naacpslocty.org/wp-content/uploads/2019/04/SaludCarbajal.png
END:VEVENT
BEGIN:VEVENT
DTSTART;VALUE=DATE:20180521
DTEND;VALUE=DATE:20180522
DTSTAMP:20260425T201638
CREATED:20180416T223100Z
LAST-MODIFIED:20240906T050457Z
UID:10008897-1526860800-1526947199@naacpslocty.org
SUMMARY:NAACP Lobby Day—Sacramento
DESCRIPTION:Join us for the annual NAACP Lobby Day in Sacramento\, California\, on Monday May 21. Plan on joining us for an educational and fun day. All members are welcome to attend. \nNAACP Lobby Day is when concerned NAACP members meet politicians or public servants at various levels in Sacramento to advocate and explain support for legislation relevant to the California Hawaii NAACP.
URL:http://naacpslocty.org/event/naacp-lobby-day-sacramento/
LOCATION:citizen hotel\, sacramento\, 926 J Street\, Sacramento\, CA\, 95814\, United States
CATEGORIES:Government
ATTACH;FMTTYPE=image/jpeg:http://naacpslocty.org/wp-content/uploads/2018/04/NAACP_LobbyDay_featured_sm.jpg
END:VEVENT
END:VCALENDAR